BEGIN:VCALENDAR
VERSION:2.0
PRODID:-//Marigny - ECPv6.15.17//NONSGML v1.0//EN
CALSCALE:GREGORIAN
METHOD:PUBLISH
X-WR-CALNAME:Marigny
X-ORIGINAL-URL:https://www.marigny79.fr
X-WR-CALDESC:Évènements pour Marigny
REFRESH-INTERVAL;VALUE=DURATION:PT1H
X-Robots-Tag:noindex
X-PUBLISHED-TTL:PT1H
BEGIN:VTIMEZONE
TZID:Europe/Paris
BEGIN:DAYLIGHT
TZOFFSETFROM:+0100
TZOFFSETTO:+0200
TZNAME:CEST
DTSTART:20250330T010000
END:DAYLIGHT
BEGIN:STANDARD
TZOFFSETFROM:+0200
TZOFFSETTO:+0100
TZNAME:CET
DTSTART:20251026T010000
END:STANDARD
BEGIN:DAYLIGHT
TZOFFSETFROM:+0100
TZOFFSETTO:+0200
TZNAME:CEST
DTSTART:20260329T010000
END:DAYLIGHT
BEGIN:STANDARD
TZOFFSETFROM:+0200
TZOFFSETTO:+0100
TZNAME:CET
DTSTART:20261025T010000
END:STANDARD
BEGIN:DAYLIGHT
TZOFFSETFROM:+0100
TZOFFSETTO:+0200
TZNAME:CEST
DTSTART:20270328T010000
END:DAYLIGHT
BEGIN:STANDARD
TZOFFSETFROM:+0200
TZOFFSETTO:+0100
TZNAME:CET
DTSTART:20271031T010000
END:STANDARD
END:VTIMEZONE
BEGIN:VEVENT
DTSTART;TZID=Europe/Paris:20260315T090000
DTEND;TZID=Europe/Paris:20260315T180000
DTSTAMP:20260420T095439
CREATED:20260128T200000Z
LAST-MODIFIED:20260128T200000Z
UID:3055-1773565200-1773597600@www.marigny79.fr
SUMMARY:1er tour : Elections Municipal
DESCRIPTION:
URL:https://www.marigny79.fr/evenement/1er-tour-elections-municipal/
LOCATION:Mairie\, Place du centre\, Marigny\, 79360\, France
CATEGORIES:Mairie
END:VEVENT
END:VCALENDAR