BEGIN:VCALENDAR
VERSION:2.0
PRODID:-//Marigny - ECPv6.15.17//NONSGML v1.0//EN
CALSCALE:GREGORIAN
METHOD:PUBLISH
X-ORIGINAL-URL:https://www.marigny79.fr
X-WR-CALDESC:Évènements pour Marigny
REFRESH-INTERVAL;VALUE=DURATION:PT1H
X-Robots-Tag:noindex
X-PUBLISHED-TTL:PT1H
BEGIN:VTIMEZONE
TZID:Europe/Paris
BEGIN:DAYLIGHT
TZOFFSETFROM:+0100
TZOFFSETTO:+0200
TZNAME:CEST
DTSTART:20250330T010000
END:DAYLIGHT
BEGIN:STANDARD
TZOFFSETFROM:+0200
TZOFFSETTO:+0100
TZNAME:CET
DTSTART:20251026T010000
END:STANDARD
BEGIN:DAYLIGHT
TZOFFSETFROM:+0100
TZOFFSETTO:+0200
TZNAME:CEST
DTSTART:20260329T010000
END:DAYLIGHT
BEGIN:STANDARD
TZOFFSETFROM:+0200
TZOFFSETTO:+0100
TZNAME:CET
DTSTART:20261025T010000
END:STANDARD
BEGIN:DAYLIGHT
TZOFFSETFROM:+0100
TZOFFSETTO:+0200
TZNAME:CEST
DTSTART:20270328T010000
END:DAYLIGHT
BEGIN:STANDARD
TZOFFSETFROM:+0200
TZOFFSETTO:+0100
TZNAME:CET
DTSTART:20271031T010000
END:STANDARD
END:VTIMEZONE
BEGIN:VEVENT
DTSTART;TZID=Europe/Paris:20260313T190000
DTEND;TZID=Europe/Paris:20260313T230000
DTSTAMP:20260421T072040
CREATED:20260128T195706Z
LAST-MODIFIED:20260306T085234Z
UID:3051-1773428400-1773442800@www.marigny79.fr
SUMMARY:Vendredi de Marigny
DESCRIPTION:
URL:https://www.marigny79.fr/evenement/vendredi-de-marigny/
LOCATION:Atelier Martignacais\, 1 Rue de la Gare\, MARIGNY\, Deux-sevres\, 79360\, France
CATEGORIES:Associations
END:VEVENT
END:VCALENDAR